BEGIN:VCALENDAR
VERSION:2.0
PRODID:-//Intimate Wipes NZ - ECPv6.15.20//NONSGML v1.0//EN
CALSCALE:GREGORIAN
METHOD:PUBLISH
X-ORIGINAL-URL:https://mypally.co.nz
X-WR-CALDESC:Events for Intimate Wipes NZ
REFRESH-INTERVAL;VALUE=DURATION:PT1H
X-Robots-Tag:noindex
X-PUBLISHED-TTL:PT1H
BEGIN:VTIMEZONE
TZID:UTC
BEGIN:STANDARD
TZOFFSETFROM:+0000
TZOFFSETTO:+0000
TZNAME:UTC
DTSTART:20250101T000000
END:STANDARD
END:VTIMEZONE
BEGIN:VEVENT
DTSTART;TZID=UTC:20260523T130000
DTEND;TZID=UTC:20260523T170000
DTSTAMP:20260423T210632
CREATED:20260417T071143Z
LAST-MODIFIED:20260417T073454Z
UID:2814-1779541200-1779555600@mypally.co.nz
SUMMARY:Trash To Treasure
DESCRIPTION:Trash to Treasure Fundraising Event \nGet ready for an inspiring afternoon where creativity\, sustainability\, and community come together for a beautiful cause \nJoin us at Trash to Treasure\, a hands-on creative experience where we transform everyday waste into something meaningful\, stylish\, and unique. This is your chance to step into a guided session and create something truly special \n Date: 23rd May Time: 1:00 PM – 5:00 PM Tickets: $40 (all materials + snacks included) Giving Back: $20 from every ticket will be donated to the Breast Cancer Foundation\n What to Expect:• Guided creative session with all materials provided• A relaxed\, social environment to connect and unwind• Take home your own handmade “treasure”• Light snacks and refreshments included\n Tickets & More Details:Full details including venue\, ticket link\, and what to bring will be announced soon — stay tuned! Spots will be limited to keep the experience personal and enjoyable\, so keep an eye out for the release \nThis is more than just a workshop — it’s a chance to create with purpose\, support an important cause\, and be part of something meaningful \n Come for the experience\, stay for the cause.
URL:https://mypally.co.nz/event/trash-to-treasure/
END:VEVENT
END:VCALENDAR